BEGIN:VCALENDAR
VERSION:2.0
PRODID:-//Wisconsin Auctioneers - ECPv6.15.20//NONSGML v1.0//EN
CALSCALE:GREGORIAN
METHOD:PUBLISH
X-ORIGINAL-URL:https://wisconsinauctioneers.org
X-WR-CALDESC:Events for Wisconsin Auctioneers
REFRESH-INTERVAL;VALUE=DURATION:PT1H
X-Robots-Tag:noindex
X-PUBLISHED-TTL:PT1H
BEGIN:VTIMEZONE
TZID:UTC
BEGIN:STANDARD
TZOFFSETFROM:+0000
TZOFFSETTO:+0000
TZNAME:UTC
DTSTART:20240101T000000
END:STANDARD
END:VTIMEZONE
BEGIN:VEVENT
DTSTART;VALUE=DATE:20250926
DTEND;VALUE=DATE:20251113
DTSTAMP:20260424T122407
CREATED:20251109T200524Z
LAST-MODIFIED:20251109T200639Z
UID:364889-1758844800-1762991999@wisconsinauctioneers.org
SUMMARY:Watertown Cape Cod – Online Real Estate Auction
DESCRIPTION:709 S. 10th St.\, Watertown\, WI 53094 / Jefferson County Bidding Opens: Friday\, September 26th\, 2025 Bidding has been EXTENDED to Wednesday\, November 12th\, 2025 at 2:00 PM CST Previews: Wednesdays\, October 8th & 15th from 4–5:30 PM Register today to bid online for this Charming Cape Cod in Watertown Step inside this inviting 3-bedroom\, 1.5-bath Cape Cod and discover a home full of character and potential. Offering 3 comfortable bedrooms\, 1.5 baths\, and a full unfinished basement\, this property is ready to welcome its new owner. A 4-season front porch provides the perfect spot to relax year-round while enjoying the neighborhood’s charm. On the main level\, you’ll discover a cheerful kitchen with easy access to the deck and backyard—perfect for summer cookouts and casual get-togethers; a spacious dining room with wood trim; a cozy living room ideal for relaxing or entertaining; and a charming foyer that greets you with warmth! The upper level includes three bedrooms—two with carpet and one with wood floors and direct deck access with freshly updated railings. A full bath with shower-over-tub and a wood-trimmed hallway round out the upper level. The basement offers practical space with a half bath\, and extra room for storage\, hobbies\, or your very own workshop.  Outdoors offers a handy storage shed and concrete driveway. Conveniently located near shopping\, schools\, and easy commuting. Turn-Key Rental Investment Opportunity!!  Click into the auction to learn more and register to bid today! Bidding requirements and Terms & Conditions apply. Brokers welcome. MLS #1936569 / SCMLS #2009463
URL:https://wisconsinauctioneers.org/event/watertown-cape-cod-online-real-estate-auction/
CATEGORIES:Auctions,Real Estate Auction
ATTACH;FMTTYPE=image/png:https://wisconsinauctioneers.org/wp-content/uploads/2025/11/logo-masthead-color__large.png
ORGANIZER;CN="Jones Auction & Realty Service":MAILTO:info@JonesAuctionService.com
END:VEVENT
BEGIN:VEVENT
DTSTART;VALUE=DATE:20251015
DTEND;VALUE=DATE:20251114
DTSTAMP:20260424T122407
CREATED:20251109T200829Z
LAST-MODIFIED:20251109T203011Z
UID:364893-1760486400-1763078399@wisconsinauctioneers.org
SUMMARY:61 Acres of Farmland\, Ixonia For Sale by Online Bidding
DESCRIPTION:+/- 61 acres of productive farmland in Ixonia\, WI open for online bidding until Thursday November 13th\, 2025 at 2:00pm (CST). Approx. 45 acres tillable with 17 acres of wetlands. Flat\, open land with easy access off State Rd 16. Sold entirely in two parcels. Pictures to come.
URL:https://wisconsinauctioneers.org/event/61-acres-of-farmland-ixonia-for-sale-by-online-bidding/
CATEGORIES:Auctions,Real Estate Auction
ATTACH;FMTTYPE=image/png:https://wisconsinauctioneers.org/wp-content/uploads/2025/11/logo-masthead-color__large.png
ORGANIZER;CN="Jones Auction & Realty Service":MAILTO:info@JonesAuctionService.com
END:VEVENT
BEGIN:VEVENT
DTSTART;VALUE=DATE:20251023
DTEND;VALUE=DATE:20251125
DTSTAMP:20260424T122407
CREATED:20251109T203224Z
LAST-MODIFIED:20251109T203224Z
UID:364895-1761177600-1764028799@wisconsinauctioneers.org
SUMMARY:205 Alvin Circle\, Beaver Dam – Online Bidding for Quiet Cul-de-Sac Home
DESCRIPTION:205 Alvin Circle\, Beaver Dam home in a Quiet Cul-de-Sac for sale by online bidding. Register today! Online bidding starts October 23rd\, 2025 and ends November 24th\, 2025 at 2:00 pm (cst). Join us for an open house Saturday\, November 15th from 10 – 11:30 am.  Located at the edge of town in a quiet cul-de-sac\, this 3-bedroom\, 1.5 bath ranch sits on a 0.23 acre lot with convenient access to Hwy 151. With approximately 1\,128 square feet\, this home offers a simple kitchen with stove\, refrigerator\, and dishwasher included\, and a cozy dining nook with built-in storage. The partially finished basement includes closet space\, an egress window and a utility room with washer and two dryers included. Ready for your updates and improvements. Outside is a 1-car attached garage with backyard access\, a paved driveway\, fenced yard\, deck\, playset and a storage shed. This property is a great renovation or investment opportunity in a peaceful residential area. Bidding requirements and Terms & Conditions apply. Sale subject to court approval. MLS #2011235
URL:https://wisconsinauctioneers.org/event/205-alvin-circle-beaver-dam-online-bidding-for-quiet-cul-de-sac-home/
CATEGORIES:Auctions,Real Estate Auction
ATTACH;FMTTYPE=image/png:https://wisconsinauctioneers.org/wp-content/uploads/2025/11/logo-masthead-color__large.png
ORGANIZER;CN="Jones Auction & Realty Service":MAILTO:info@JonesAuctionService.com
END:VEVENT
BEGIN:VEVENT
DTSTART;VALUE=DATE:20251025
DTEND;VALUE=DATE:20251125
DTSTAMP:20260424T122407
CREATED:20251109T211916Z
LAST-MODIFIED:20251109T211916Z
UID:364912-1761350400-1764028799@wisconsinauctioneers.org
SUMMARY:Merrill 3BR/1BA Real Estate Property Auction
DESCRIPTION:This 3 Bedroom 1 Bath Merrill home is being sold to the highest bidder. Conveniently located at 402 E. 3rd Street in Merrill it features a Living room\, Den\, and 3 Bedrooms and 1 Bath on the upper level\, a single car garage and a large exterior shed\, central air\, and oil forced air heat this is your opportunity to name your own price for your next home or investment property. There is a 10% Buyers Fee to be added to the highest bid that will become the purchase price for the home. Successful bidder will sign a Wisconsin offer to purchase real estate\, make a $5\,000.00 (Five Thousand) deposit\, and have up to 60 days to close on the property. Failure to close for any reason will result in the forfeiture of the deposit.
URL:https://wisconsinauctioneers.org/event/merrill-3br-1ba-real-estate-property-auction/
CATEGORIES:Auctions,Real Estate Auction
ATTACH;FMTTYPE=image/png:https://wisconsinauctioneers.org/wp-content/uploads/2025/11/logo-footer-v-alt__large.png
ORGANIZER;CN="Wisconsin Estate Solutions":MAILTO:Robert@wisconsinestatesolutions.com
END:VEVENT
BEGIN:VEVENT
DTSTART;VALUE=DATE:20251031
DTEND;VALUE=DATE:20251114
DTSTAMP:20260424T122407
CREATED:20251109T205238Z
LAST-MODIFIED:20251109T205238Z
UID:364902-1761868800-1763078399@wisconsinauctioneers.org
SUMMARY:Two Rivers Downsizing Vintage Primitives
DESCRIPTION:Two Rivers downsizing primitive and vintage auction including old Style beer waterfall light sign\, several fire arms\, many assorted crates\, 2 boat motors\, drafting table\, lots of hanging chains\, lots of LPs and 45s\, milk cans\, pails\, vintage books\, whiskey barrel\, tins of all sorts\, wood boxes\, salesman sample box of wood species\, oscillioscope\, wire recorder\, lots of popular mechanics\, funny face display rack\, lots and lots of small items\, kitchenware utensils\, mirrors\, framed prints\, regulator wall clock\, fishing reels\, rod and lures\, cigar boxes\, floor lamp\, vintage shade\, lanterns\, door hardware including knobs and handles\, maps and calendars\, antique wood workers bench\, WWII Fife\, Japanese military trunk\, lots of assorted keys\, and so much more!! Don’t miss out on these great items!
URL:https://wisconsinauctioneers.org/event/two-rivers-downsizing-vintage-primitives/
CATEGORIES:Auctions,Personal Property Auction
ATTACH;FMTTYPE=image/png:https://wisconsinauctioneers.org/wp-content/uploads/2025/11/LaCount-Auction.png
ORGANIZER;CN="LaCount Auctions":MAILTO:lacountauctions@gmail.com
END:VEVENT
END:VCALENDAR