BEGIN:VCALENDAR
VERSION:2.0
PRODID:-//Wisconsin Auctioneers - ECPv6.15.20//NONSGML v1.0//EN
CALSCALE:GREGORIAN
METHOD:PUBLISH
X-ORIGINAL-URL:https://wisconsinauctioneers.org
X-WR-CALDESC:Events for Wisconsin Auctioneers
REFRESH-INTERVAL;VALUE=DURATION:PT1H
X-Robots-Tag:noindex
X-PUBLISHED-TTL:PT1H
BEGIN:VTIMEZONE
TZID:UTC
BEGIN:STANDARD
TZOFFSETFROM:+0000
TZOFFSETTO:+0000
TZNAME:UTC
DTSTART:20250101T000000
END:STANDARD
END:VTIMEZONE
BEGIN:VEVENT
DTSTART;TZID=UTC:20260104T120000
DTEND;TZID=UTC:20260104T120000
DTSTAMP:20260423T151659
CREATED:20251109T182414Z
LAST-MODIFIED:20251109T183235Z
UID:364859-1767528000-1767528000@wisconsinauctioneers.org
SUMMARY:Hay Auction
DESCRIPTION:Bob Hagemann Auction and Realty Service hosts hay auctions at The DeLong Company in Union Grove (1313 S. Colony Ave.\, Union Grove\, WI 53182). ​ \nConsignments are accepted on the day of sale starting at 10:00 a.m. to 11:30 a.m. All hay must be at the auction site no later than one-half hour prior to sale start time. Hay arriving later may not be listed on the sale order. It may be sold after the sale is complete.All bidders must register with proper identification. Hay auction rules apply.Hay Auction Rules: \n\n\nConsignments accepted on the day of sale between 10:00 a.m.-11:30 a.m. \n\n\nAll hay must be at the auction site no later than one-half hour prior to sale start time. Hay arriving later may not be listed on the sale order. It may be sold after the sale is complete. \n\n\nConsigners are urged to list hay in advance of the sale. \n\n\nHay will be sold by the bale times the number on the load unless otherwise determined. To sell by the ton the load must be accompanied by a weight ticket from a certified scale. \n\n\nConsigners are responsible for the quality and conditions of hay. Any consigner found to be deliberately misrepresenting or altering their product shall be barred from further participation in sales. \n\n\nSale Lot minimum: 35 small square bales or 3 round or big Squares. \n\n\nThe commission rate of 6 percent (or a minimum of $6.00 per load) for both hay and straw. \n\n\nThe bid-in or buy-back charge is 3 percent or a minimum of $6.00. \n\n\nEffective 5-7-2006 \n\n\nFor more information\, please call 262-492-5125 or e-mail Bob at hagemannauctions@tds.net \n\n\nTerms: Cash or good check with proper ID. All purchases must be settled for on day of sale.Auctioneer: Bob Hagemann\, GA\, Wisconsin Registered Auctioneer No. 509
URL:https://wisconsinauctioneers.org/event/hay-auction-2/
CATEGORIES:Auctions,Farm Auction,Hay Auction
ATTACH;FMTTYPE=image/png:https://wisconsinauctioneers.org/wp-content/uploads/2025/11/BobHagemann.png
ORGANIZER;CN="Bob Hagemann Auction & Realty Service":MAILTO:hagemannauctions@tds.net
END:VEVENT
BEGIN:VEVENT
DTSTART;VALUE=DATE:20260111
DTEND;VALUE=DATE:20260112
DTSTAMP:20260423T151659
CREATED:20260311T090004Z
LAST-MODIFIED:20260121T012130Z
UID:365305-1768089600-1768175999@wisconsinauctioneers.org
SUMMARY:WAA Day on the Hill: Why Your Voice Matters in Madison
DESCRIPTION:WAA Day on the Hill: Why Your Voice Matters in Madison\nEach year\, the Wisconsin Auctioneers Association (WAA) works to protect and strengthen our profession—not just through education and networking\, but by ensuring auctioneers have a seat at the table when laws and regulations are being shaped. \nThat’s why WAA Day on the Hill in Madison on March 11th at 9:00am in Room 300 NE is so important. \nWhat Is Day on the Hill?\nDay on the Hill is our opportunity to meet directly with state legislators and their staff to share who we are\, what we do\, and why auctioneers matter to Wisconsin’s economy and communities. This event is about building relationships\, educating decision-makers\, and advocating for policies that support professional auctioneers and the consumers we serve. \nWhy It Matters\nLegislation impacts everything from auction licensing and consumer protections to sales tax rules and business regulations. If auctioneers are not engaged\, decisions could be made without a full understanding of how our industry operates—and that can lead to unintended consequences for auction businesses and the public. \nWhen WAA members show up in Madison: \n\n\nLegislators see auctioneers as trusted professionals \n\n\nOur industry becomes more visible and respected \n\n\nWe protect our ability to do business fairly and competitively \n\n\nWe help shape laws before they become problems \n\n\nStronger Together\nOne auctioneer can make an impression. A group of auctioneers makes a statement. Your presence reinforces that auctioneers across Wisconsin care about ethical practices\, consumer protection\, and maintaining a strong\, professional industry. \nJoin Us March 11th\nWhether you’ve attended before or this is your first time\, Day on the Hill is one of the most meaningful ways you can support WAA’s mission. It’s not complicated—and you won’t be doing it alone. The Legislative Committee will help guide participants and provide key talking points to make the day comfortable and effective for everyone. \n✅ Attend WAA Day on the Hill – March 11th\, MadisonLet’s show Wisconsin lawmakers the value of professional auctioneers—together.
URL:https://wisconsinauctioneers.org/event/waa-day-on-the-hill-why-your-voice-matters-in-madison/
LOCATION:Wisconsin State Capitol\, 2 E Main St\, Madison\, WI\, 53703\, United States
CATEGORIES:WAA Events,Wisconsin Events
ATTACH;FMTTYPE=image/png:https://wisconsinauctioneers.org/wp-content/uploads/2026/01/ChatGPT-Image-Jan-11-2026-07_22_19-AM.png
ORGANIZER;CN="Wisconsin Auctioneers Association":MAILTO:info@wisconsinauctioneers.org
END:VEVENT
BEGIN:VEVENT
DTSTART;VALUE=DATE:20260126
DTEND;VALUE=DATE:20260129
DTSTAMP:20260423T151659
CREATED:20250302T135915Z
LAST-MODIFIED:20251011T110507Z
UID:364475-1769385600-1769644799@wisconsinauctioneers.org
SUMMARY:2026 WAA Annual Convention
DESCRIPTION:Join auction professionals from across Wisconsin for an inspiring and action-packed weekend at the 2026 Wisconsin Auctioneers Association Annual Convention! This year’s theme\, “Collaborating Together\,” celebrates the power of connection\, teamwork\, and shared success within the auction industry. \nEnjoy three days of networking\, education\, and fun as we gather at the beautiful Stoney Creek Hotel in La Crosse. The convention will feature a variety of continuing education classes\, professional development sessions\, and hands-on workshops designed to help you grow your business\, strengthen your skills\, and stay ahead in a rapidly evolving industry. \nHighlights include: \n\n\n Networking Opportunities – Connect with fellow auctioneers\, industry leaders\, and vendors in a welcoming and energetic atmosphere. \n\n\n Educational & CE Sessions – Learn from top presenters on marketing\, technology\, business growth\, and auctioneering excellence. \n\n\n Competitions – Witness the excitement of the State Auctioneer Championship and cheer on the rising stars during the 2nd Annual FFA State Auctioneer Competition. \n\n\n Social Events & Banquet – Celebrate our industry\, honor achievements\, and make lasting memories with friends old and new. \n\n\nDon’t miss this opportunity to collaborate\, learn\, and be inspired.Register today and be part of the excitement in La Crosse—where Wisconsin auctioneers come together to build a stronger future!
URL:https://wisconsinauctioneers.org/event/2026-waa-annual-convention/
LOCATION:Stoney Creek Hotel La Crosse – Onalaska\, 3060 S Kinney Coulee Rd\, Onalaska\, WI\, 54650\, United States
CATEGORIES:Conferences,State Association Conventions,WAA Events,Wisconsin Events
ATTACH;FMTTYPE=image/png:https://wisconsinauctioneers.org/wp-content/uploads/2025/03/ChatGPT-Image-Oct-11-2025-05_47_58-AM.png
ORGANIZER;CN="Wisconsin Auctioneers Association":MAILTO:info@wisconsinauctioneers.org
END:VEVENT
BEGIN:VEVENT
DTSTART;TZID=UTC:20260126T150000
DTEND;TZID=UTC:20260126T170000
DTSTAMP:20260423T151659
CREATED:20251011T110933Z
LAST-MODIFIED:20251011T111249Z
UID:364624-1769439600-1769446800@wisconsinauctioneers.org
SUMMARY:FFA Competition
DESCRIPTION:The Wisconsin FFA State Auctioneering Competition returns for its second exciting year\, showcasing the talent\, confidence\, and enthusiasm of the next generation of auctioneers! This event is a highlight of the Wisconsin
URL:https://wisconsinauctioneers.org/event/ffa-competition/
LOCATION:Stoney Creek Hotel La Crosse – Onalaska\, 3060 S Kinney Coulee Rd\, Onalaska\, WI\, 54650\, United States
CATEGORIES:Competitions,WAA Events
ATTACH;FMTTYPE=image/jpeg:https://wisconsinauctioneers.org/wp-content/uploads/2025/01/475707410_10228171897622747_1493980288638761065_n.jpg
ORGANIZER;CN="Wisconsin Auctioneers Association":MAILTO:info@wisconsinauctioneers.org
END:VEVENT
BEGIN:VEVENT
DTSTART;TZID=UTC:20260201T120000
DTEND;TZID=UTC:20260201T170000
DTSTAMP:20260423T151659
CREATED:20251109T183144Z
LAST-MODIFIED:20251109T183144Z
UID:364862-1769947200-1769965200@wisconsinauctioneers.org
SUMMARY:Hay Auction
DESCRIPTION:Bob Hagemann Auction and Realty Service hosts hay auctions at The DeLong Company in Union Grove (1313 S. Colony Ave.\, Union Grove\, WI 53182). ​ \nConsignments are accepted on the day of sale starting at 10:00 a.m. to 11:30 a.m. All hay must be at the auction site no later than one-half hour prior to sale start time. Hay arriving later may not be listed on the sale order. It may be sold after the sale is complete.All bidders must register with proper identification. Hay auction rules apply.Hay Auction Rules: \n\n\nConsignments accepted on the day of sale between 10:00 a.m.-11:30 a.m. \n\n\nAll hay must be at the auction site no later than one-half hour prior to sale start time. Hay arriving later may not be listed on the sale order. It may be sold after the sale is complete. \n\n\nConsigners are urged to list hay in advance of the sale. \n\n\nHay will be sold by the bale times the number on the load unless otherwise determined. To sell by the ton the load must be accompanied by a weight ticket from a certified scale. \n\n\nConsigners are responsible for the quality and conditions of hay. Any consigner found to be deliberately misrepresenting or altering their product shall be barred from further participation in sales. \n\n\nSale Lot minimum: 35 small square bales or 3 round or big Squares. \n\n\nThe commission rate of 6 percent (or a minimum of $6.00 per load) for both hay and straw. \n\n\nThe bid-in or buy-back charge is 3 percent or a minimum of $6.00. \n\n\nEffective 5-7-2006 \n\n\nFor more information\, please call 262-492-5125 or e-mail Bob at hagemannauctions@tds.net \n\n\nTerms: Cash or good check with proper ID. All purchases must be settled for on day of sale.Auctioneer: Bob Hagemann\, GA\, Wisconsin Registered Auctioneer No. 509
URL:https://wisconsinauctioneers.org/event/hay-auction-3/
CATEGORIES:Auctions,Farm Auction,Hay Auction
ATTACH;FMTTYPE=image/png:https://wisconsinauctioneers.org/wp-content/uploads/2025/11/BobHagemann.png
ORGANIZER;CN="Bob Hagemann Auction & Realty Service":MAILTO:hagemannauctions@tds.net
END:VEVENT
BEGIN:VEVENT
DTSTART;TZID=UTC:20260203T103000
DTEND;TZID=UTC:20260203T170000
DTSTAMP:20260423T151659
CREATED:20251109T174513Z
LAST-MODIFIED:20251109T174720Z
UID:364849-1770114600-1770138000@wisconsinauctioneers.org
SUMMARY:Farmland Auction
DESCRIPTION:257.558 Surveyed Acres \n\nSelling as TWO parcels\n\n\n\nOwner\, Lester A Rothermel Trust\, Polo Seed Company\, Michelle R Goetz Trust & Kevin R Rothermel Special Needs Trust\n\n\n\nSale to be held:   Polo Senior Center\n\n                             101 E Mason St\n\n                              Polo\, IL  61064
URL:https://wisconsinauctioneers.org/event/farmland-auction-3/
CATEGORIES:Auctions,Farm Auction
ATTACH;FMTTYPE=image/png:https://wisconsinauctioneers.org/wp-content/uploads/2025/11/lennybryson.png
ORGANIZER;CN="Lenny Bryson Auction Company":MAILTO:brysonauctions@hotmail.com
END:VEVENT
BEGIN:VEVENT
DTSTART;TZID=UTC:20260301T120000
DTEND;TZID=UTC:20260301T170000
DTSTAMP:20260423T151659
CREATED:20251109T184100Z
LAST-MODIFIED:20251109T185029Z
UID:364865-1772366400-1772384400@wisconsinauctioneers.org
SUMMARY:Hay Auction
DESCRIPTION:Bob Hagemann Auction and Realty Service hosts hay auctions at The DeLong Company in Union Grove (1313 S. Colony Ave.\, Union Grove\, WI 53182).​ \nConsignments are accepted on the day of sale starting at 10:00 a.m. to 11:30 a.m. All hay must be at the auction site no later than one-half hour prior to sale start time. Hay arriving later may not be listed on the sale order. It may be sold after the sale is complete. \nAll bidders must register with proper identification. Hay auction rules apply. \nHay Auction Rules: \nConsignments accepted on the day of sale between 10:00 a.m.-11:30 a.m. \nAll hay must be at the auction site no later than one-half hour prior to sale start time. Hay arriving later may not be listed on the sale order. It may be sold after the sale is complete. \nConsigners are urged to list hay in advance of the sale. \nHay will be sold by the bale times the number on the load unless otherwise determined. To sell by the ton the load must be accompanied by a weight ticket from a certified scale. \nConsigners are responsible for the quality and conditions of hay. Any consigner found to be deliberately misrepresenting or altering their product shall be barred from further participation in sales. \nSale Lot minimum: 35 small square bales or 3 round or big Squares. \nThe commission rate of 6 percent (or a minimum of $6.00 per load) for both hay and straw. \nThe bid-in or buy-back charge is 3 percent or a minimum of $6.00. \nEffective 5-7-2006 \nFor more information\, please call 262-492-5125 or e-mail Bob at hagemannauctions@tds.net \nTerms: Cash or good check with proper ID. All purchases must be settled for on day of sale. \nAuctioneer: Bob Hagemann\, GA\, Wisconsin Registered Auctioneer No. 509
URL:https://wisconsinauctioneers.org/event/hay-auction-4/
LOCATION:The DeLong Company Inc\, 1313 S Colony Ave\, Union Grove\, WI\, United States
CATEGORIES:Auctions,Farm Auction,Hay Auction
ATTACH;FMTTYPE=image/png:https://wisconsinauctioneers.org/wp-content/uploads/2025/11/BobHagemann.png
ORGANIZER;CN="Bob Hagemann Auction & Realty Service":MAILTO:hagemannauctions@tds.net
END:VEVENT
BEGIN:VEVENT
DTSTART;TZID=UTC:20260311T113000
DTEND;TZID=UTC:20260311T133000
DTSTAMP:20260423T151659
CREATED:20260310T163531Z
LAST-MODIFIED:20260315T201537Z
UID:365389-1773228600-1773235800@wisconsinauctioneers.org
SUMMARY:WAA Board Meeting
DESCRIPTION:WAA Board Meeting at the State Capital \nMember Access to Board Meetings and Minutes \nMembers of the Wisconsin Auctioneers Association are welcome to attend WAA Board of Directors meetings. We encourage member participation and transparency within the association. \nMembers who would like member-only access to past Board meeting minutes may request access by emailing info@wisconsinauctioneers.org. Access will be provided to current WAA members upon request.
URL:https://wisconsinauctioneers.org/event/waa-board-meeting/
LOCATION:Wisconsin State Capitol\, 2 E Main St\, Madison\, WI\, 53703\, United States
CATEGORIES:WAA Meetings
ORGANIZER;CN="Wisconsin Auctioneers Association":MAILTO:info@wisconsinauctioneers.org
END:VEVENT
BEGIN:VEVENT
DTSTART;TZID=UTC:20260320T070000
DTEND;TZID=UTC:20260320T080000
DTSTAMP:20260423T151659
CREATED:20260315T193946Z
LAST-MODIFIED:20260315T201500Z
UID:365401-1773990000-1773993600@wisconsinauctioneers.org
SUMMARY:WAA Board Meeting
DESCRIPTION:WAA Zoom Board Meeting. \nMember Access to Board Meetings and Minutes \nMembers of the Wisconsin Auctioneers Association are welcome to attend WAA Board of Directors meetings. We encourage member participation and transparency within the association. \nMembers who would like member-only access to past Board meeting minutes may request access by emailing info@wisconsinauctioneers.org. Access will be provided to current WAA members upon request.
URL:https://wisconsinauctioneers.org/event/waa-board-meeting-8/
END:VEVENT
BEGIN:VEVENT
DTSTART;VALUE=DATE:20260330
DTEND;VALUE=DATE:20260404
DTSTAMP:20260423T151659
CREATED:20230129T152627Z
LAST-MODIFIED:20230129T163644Z
UID:343796-1774828800-1775260799@wisconsinauctioneers.org
SUMMARY:Certified Auctioneers Institute
DESCRIPTION:CAI is different from NAA’s other designations. It’s a three-year program in which attendees spend a week each year onsite at Indiana University. It’s an intensive program involving late nights working on proposals and other projects that happen in the time between classes. \nCAI\, unlike other designations\, focuses on the business of the auction industry rather than on a particular asset class. While attendees learn about different types of auctions\, the focus is on business planning\, development and structure. Attendees register for CAI I\, CAI II\, and CAI III in successive years. Gaps between CAI I\, II and III of more than two years require approval of the Education Director\, and often are addressed by having attendees audit CAI classes for a year before returning to the program.
URL:https://wisconsinauctioneers.org/event/certified-auctioneers-institute-4/
CATEGORIES:Designations
ATTACH;FMTTYPE=image/jpeg:https://wisconsinauctioneers.org/wp-content/uploads/2023/01/CAI.jpg
END:VEVENT
BEGIN:VEVENT
DTSTART;TZID=UTC:20260405T120000
DTEND;TZID=UTC:20260405T170000
DTSTAMP:20260423T151659
CREATED:20251109T184321Z
LAST-MODIFIED:20251109T184954Z
UID:364867-1775390400-1775408400@wisconsinauctioneers.org
SUMMARY:Hay Auction
DESCRIPTION:Bob Hagemann Auction and Realty Service hosts hay auctions at The DeLong Company in Union Grove (1313 S. Colony Ave.\, Union Grove\, WI 53182). ​ \nConsignments are accepted on the day of sale starting at 10:00 a.m. to 11:30 a.m. All hay must be at the auction site no later than one-half hour prior to sale start time. Hay arriving later may not be listed on the sale order. It may be sold after the sale is complete.All bidders must register with proper identification. Hay auction rules apply.Hay Auction Rules: \n\n\nConsignments accepted on the day of sale between 10:00 a.m.-11:30 a.m. \n\n\nAll hay must be at the auction site no later than one-half hour prior to sale start time. Hay arriving later may not be listed on the sale order. It may be sold after the sale is complete. \n\n\nConsigners are urged to list hay in advance of the sale. \n\n\nHay will be sold by the bale times the number on the load unless otherwise determined. To sell by the ton the load must be accompanied by a weight ticket from a certified scale. \n\n\nConsigners are responsible for the quality and conditions of hay. Any consigner found to be deliberately misrepresenting or altering their product shall be barred from further participation in sales. \n\n\nSale Lot minimum: 35 small square bales or 3 round or big Squares. \n\n\nThe commission rate of 6 percent (or a minimum of $6.00 per load) for both hay and straw. \n\n\nThe bid-in or buy-back charge is 3 percent or a minimum of $6.00. \n\n\nEffective 5-7-2006 \n\n\nFor more information\, please call 262-492-5125 or e-mail Bob at hagemannauctions@tds.net \n\n\nTerms: Cash or good check with proper ID. All purchases must be settled for on day of sale.Auctioneer: Bob Hagemann\, GA\, Wisconsin Registered Auctioneer No. 509
URL:https://wisconsinauctioneers.org/event/hay-auction-5/
LOCATION:The DeLong Company Inc\, 1313 S Colony Ave\, Union Grove\, WI\, United States
CATEGORIES:Auctions,Farm Auction,Hay Auction
ATTACH;FMTTYPE=image/png:https://wisconsinauctioneers.org/wp-content/uploads/2025/11/BobHagemann.png
ORGANIZER;CN="Bob Hagemann Auction & Realty Service":MAILTO:hagemannauctions@tds.net
END:VEVENT
BEGIN:VEVENT
DTSTART;TZID=UTC:20260501T070000
DTEND;TZID=UTC:20260501T080000
DTSTAMP:20260423T151659
CREATED:20260330T161241Z
LAST-MODIFIED:20260330T161241Z
UID:365501-1777618800-1777622400@wisconsinauctioneers.org
SUMMARY:WAA Board Meeting
DESCRIPTION:WAA Zoom Board Meeting. \nMember Access to Board Meetings and Minutes \nMembers of the Wisconsin Auctioneers Association are welcome to attend WAA Board of Directors meetings. We encourage member participation and transparency within the association. \nMembers who would like member-only access to past Board meeting minutes may request access by emailing info@wisconsinauctioneers.org. Access will be provided to current WAA members upon request.
URL:https://wisconsinauctioneers.org/event/waa-board-meeting-9/
LOCATION:Zoom
ORGANIZER;CN="Wisconsin Auctioneers Association":MAILTO:info@wisconsinauctioneers.org
END:VEVENT
BEGIN:VEVENT
DTSTART;TZID=UTC:20260503T120000
DTEND;TZID=UTC:20260503T170000
DTSTAMP:20260423T151659
CREATED:20251109T184716Z
LAST-MODIFIED:20251109T184855Z
UID:364869-1777809600-1777827600@wisconsinauctioneers.org
SUMMARY:Hay Auction
DESCRIPTION:Bob Hagemann Auction and Realty Service hosts hay auctions at The DeLong Company in Union Grove (1313 S. Colony Ave.\, Union Grove\, WI 53182). ​ \nConsignments are accepted on the day of sale starting at 10:00 a.m. to 11:30 a.m. All hay must be at the auction site no later than one-half hour prior to sale start time. Hay arriving later may not be listed on the sale order. It may be sold after the sale is complete.All bidders must register with proper identification. Hay auction rules apply.Hay Auction Rules: \n\n\nConsignments accepted on the day of sale between 10:00 a.m.-11:30 a.m. \n\n\nAll hay must be at the auction site no later than one-half hour prior to sale start time. Hay arriving later may not be listed on the sale order. It may be sold after the sale is complete. \n\n\nConsigners are urged to list hay in advance of the sale. \n\n\nHay will be sold by the bale times the number on the load unless otherwise determined. To sell by the ton the load must be accompanied by a weight ticket from a certified scale. \n\n\nConsigners are responsible for the quality and conditions of hay. Any consigner found to be deliberately misrepresenting or altering their product shall be barred from further participation in sales. \n\n\nSale Lot minimum: 35 small square bales or 3 round or big Squares. \n\n\nThe commission rate of 6 percent (or a minimum of $6.00 per load) for both hay and straw. \n\n\nThe bid-in or buy-back charge is 3 percent or a minimum of $6.00. \n\n\nEffective 5-7-2006 \n\n\nFor more information\, please call 262-492-5125 or e-mail Bob at hagemannauctions@tds.net \n\n\nTerms: Cash or good check with proper ID. All purchases must be settled for on day of sale.Auctioneer: Bob Hagemann\, GA\, Wisconsin Registered Auctioneer No. 509
URL:https://wisconsinauctioneers.org/event/hay-auction-6/
LOCATION:The DeLong Company Inc\, 1313 S Colony Ave\, Union Grove\, WI\, United States
CATEGORIES:Auctions,Farm Auction,Hay Auction
ATTACH;FMTTYPE=image/png:https://wisconsinauctioneers.org/wp-content/uploads/2025/11/BobHagemann.png
ORGANIZER;CN="Bob Hagemann Auction & Realty Service":MAILTO:hagemannauctions@tds.net
END:VEVENT
END:VCALENDAR