BEGIN:VCALENDAR
VERSION:2.0
PRODID:-//Wisconsin Auctioneers - ECPv6.15.20//NONSGML v1.0//EN
CALSCALE:GREGORIAN
METHOD:PUBLISH
X-WR-CALNAME:Wisconsin Auctioneers
X-ORIGINAL-URL:https://wisconsinauctioneers.org
X-WR-CALDESC:Events for Wisconsin Auctioneers
REFRESH-INTERVAL;VALUE=DURATION:PT1H
X-Robots-Tag:noindex
X-PUBLISHED-TTL:PT1H
BEGIN:VTIMEZONE
TZID:UTC
BEGIN:STANDARD
TZOFFSETFROM:+0000
TZOFFSETTO:+0000
TZNAME:UTC
DTSTART:20220101T000000
END:STANDARD
END:VTIMEZONE
BEGIN:VEVENT
DTSTART;TZID=UTC:20230420T140000
DTEND;TZID=UTC:20230420T150000
DTSTAMP:20260420T041807
CREATED:20230228T003114Z
LAST-MODIFIED:20230228T003535Z
UID:344323-1681999200-1682002800@wisconsinauctioneers.org
SUMMARY:Community Conversation - Firearms
DESCRIPTION:
URL:https://wisconsinauctioneers.org/event/community-conversation-firearms/
LOCATION:Zoom
CATEGORIES:Community Conversation,NAA Events
END:VEVENT
BEGIN:VEVENT
DTSTART;VALUE=DATE:20230420
DTEND;VALUE=DATE:20230421
DTSTAMP:20260420T041807
CREATED:20230228T000936Z
LAST-MODIFIED:20230228T001019Z
UID:344312-1681948800-1682035199@wisconsinauctioneers.org
SUMMARY:National Auctioneers Day
DESCRIPTION:National Auctioneers Day is celebrated on the third Thursday of April\, in honor of auctioneers and the practice of auctioning. It takes place on April 20 this year. The holiday is the initiative of the National Auctioneers Association and has been celebrated since 1996.
URL:https://wisconsinauctioneers.org/event/national-auctioneers-day/
CATEGORIES:NAA Events
END:VEVENT
END:VCALENDAR