BEGIN:VCALENDAR
VERSION:2.0
PRODID:-//Wisconsin Auctioneers - ECPv6.15.20//NONSGML v1.0//EN
CALSCALE:GREGORIAN
METHOD:PUBLISH
X-WR-CALNAME:Wisconsin Auctioneers
X-ORIGINAL-URL:https://wisconsinauctioneers.org
X-WR-CALDESC:Events for Wisconsin Auctioneers
REFRESH-INTERVAL;VALUE=DURATION:PT1H
X-Robots-Tag:noindex
X-PUBLISHED-TTL:PT1H
BEGIN:VTIMEZONE
TZID:UTC
BEGIN:STANDARD
TZOFFSETFROM:+0000
TZOFFSETTO:+0000
TZNAME:UTC
DTSTART:20220101T000000
END:STANDARD
END:VTIMEZONE
BEGIN:VEVENT
DTSTART;TZID=UTC:20240102T083000
DTEND;TZID=UTC:20240102T093000
DTSTAMP:20260423T204347
CREATED:20230307T005909Z
LAST-MODIFIED:20230307T005909Z
UID:344421-1704184200-1704187800@wisconsinauctioneers.org
SUMMARY:WAA Board Meeting
DESCRIPTION:The Wisconsin Auctioneers Association Board of Directors will be meeting via Zoom. If you have anything that you would like the Board to discuss\, please email it to info@wisconsinauctioneers.org so it can be added to the agenda.
URL:https://wisconsinauctioneers.org/event/waa-board-meeting-6/
LOCATION:Zoom
CATEGORIES:WAA Events,WAA Meetings
ORGANIZER;CN="Wisconsin Auctioneers Association":MAILTO:info@wisconsinauctioneers.org
END:VEVENT
BEGIN:VEVENT
DTSTART;TZID=UTC:20231107T083000
DTEND;TZID=UTC:20231107T093000
DTSTAMP:20260423T204347
CREATED:20230307T005644Z
LAST-MODIFIED:20230307T005644Z
UID:344419-1699345800-1699349400@wisconsinauctioneers.org
SUMMARY:WAA Board Meeting
DESCRIPTION:The Wisconsin Auctioneers Association Board of Directors will be meeting via Zoom. If you have anything that you would like the Board to discuss\, please email it to info@wisconsinauctioneers.org so it can be added to the agenda.
URL:https://wisconsinauctioneers.org/event/waa-board-meeting-5/
LOCATION:Zoom
CATEGORIES:WAA Events,WAA Meetings
ORGANIZER;CN="Wisconsin Auctioneers Association":MAILTO:info@wisconsinauctioneers.org
END:VEVENT
BEGIN:VEVENT
DTSTART;VALUE=DATE:20230930
DTEND;VALUE=DATE:20231001
DTSTAMP:20260423T204347
CREATED:20230307T105956Z
LAST-MODIFIED:20230307T110117Z
UID:344429-1696032000-1696118399@wisconsinauctioneers.org
SUMMARY:WAA Magazine Deadline
DESCRIPTION:If you are interested in writing an article for the WAA magazine\, have pictures to share\, or would like to advertise in the next issue\, please submit it by this date. Please also let us know of any work milestones\, anniversaries\, or items of particular interest that we can recognize in the next magazine.
URL:https://wisconsinauctioneers.org/event/waa-magazine-deadline-2/
CATEGORIES:WAA Events
ORGANIZER;CN="Wisconsin Auctioneers Association":MAILTO:info@wisconsinauctioneers.org
END:VEVENT
BEGIN:VEVENT
DTSTART;TZID=UTC:20230905T083000
DTEND;TZID=UTC:20230905T093000
DTSTAMP:20260423T204347
CREATED:20230307T005150Z
LAST-MODIFIED:20230307T005151Z
UID:344417-1693902600-1693906200@wisconsinauctioneers.org
SUMMARY:WAA Board Meeting
DESCRIPTION:The Wisconsin Auctioneers Association Board of Directors will be meeting via Zoom. If you have anything that you would like the Board to discuss\, please email it to info@wisconsinauctioneers.org so it can be added to the agenda.
URL:https://wisconsinauctioneers.org/event/waa-board-meeting-4/
LOCATION:Zoom
CATEGORIES:WAA Events,WAA Meetings
ORGANIZER;CN="Wisconsin Auctioneers Association":MAILTO:info@wisconsinauctioneers.org
END:VEVENT
BEGIN:VEVENT
DTSTART;TZID=UTC:20230809T130000
DTEND;TZID=UTC:20230809T170000
DTSTAMP:20260423T204347
CREATED:20230801T060313Z
LAST-MODIFIED:20230801T060643Z
UID:345772-1691586000-1691600400@wisconsinauctioneers.org
SUMMARY:Wisconsin State Fair
DESCRIPTION:Wisconsin State Fair is another huge presence for the WAA. Many members will be assisting with the Governor’s Blue Ribbon Auction. Come show your support and enjoy the State Fair. We will have a gathering at the Case IH coliseum at 1:00pm on the west end at Blue Ribbon Chicken Shack. It would be great to see you there. \nThe Governor’s Blue Ribbon Livestock Auction has been supporting Wisconsin youth actively involved in agriculture for 50 years. Our mission is to educate and encourage Wisconsin State Fair youth exhibitors to produce high-quality livestock that will provide wholesome and nutritious products while providing a platform for enhancing and strengthening the agriculture community of Wisconsin and fostering a better understanding of the agriculture industry throughout our society.
URL:https://wisconsinauctioneers.org/event/wisconsin-state-fair/
LOCATION:Wisconsin State Fair\, 640 South 84th Street\, West Allis\, 53214\, United States
CATEGORIES:WAA Events
ORGANIZER;CN="Wisconsin Auctioneers Association":MAILTO:info@wisconsinauctioneers.org
END:VEVENT
BEGIN:VEVENT
DTSTART;TZID=UTC:20230803T053000
DTEND;TZID=UTC:20230803T180000
DTSTAMP:20260423T204347
CREATED:20230802T010734Z
LAST-MODIFIED:20230802T011839Z
UID:345781-1691040600-1691085600@wisconsinauctioneers.org
SUMMARY:WAA Championship Contest on ESPN
DESCRIPTION:One of ESPN’s most popular annual events\, “ESPN8: The Ocho\,” will return to ESPN2 Thursday\, August 3 through Saturday\, August 5 for 43 hours of unique and groundbreaking programming and sports – many of which are on the cusp of being discovered. It is\, the Ocho-est Ocho to date; a very bold strategy\, ESPN. \n\n\n\nWatch our 2023 WAA Championship Contest along with contestant/judges interviews on ESPN! (it will be aired multiple times on ESPN). Watch here: https://www.espn.com/watch/collections/44717/the-ocho
URL:https://wisconsinauctioneers.org/event/waa-championship-contest-on-espn/
CATEGORIES:WAA Events
END:VEVENT
BEGIN:VEVENT
DTSTART;TZID=UTC:20230704T083000
DTEND;TZID=UTC:20230704T093000
DTSTAMP:20260423T204347
CREATED:20230307T005013Z
LAST-MODIFIED:20230307T005013Z
UID:344415-1688459400-1688463000@wisconsinauctioneers.org
SUMMARY:WAA Board Meeting
DESCRIPTION:The Wisconsin Auctioneers Association Board of Directors will be meeting via Zoom. If you have anything that you would like the Board to discuss\, please email it to info@wisconsinauctioneers.org so it can be added to the agenda.
URL:https://wisconsinauctioneers.org/event/waa-board-meeting-3/
LOCATION:Zoom
CATEGORIES:WAA Events,WAA Meetings
ORGANIZER;CN="Wisconsin Auctioneers Association":MAILTO:info@wisconsinauctioneers.org
END:VEVENT
BEGIN:VEVENT
DTSTART;VALUE=DATE:20230609
DTEND;VALUE=DATE:20230611
DTSTAMP:20260423T204347
CREATED:20230608T231842Z
LAST-MODIFIED:20230609T080955Z
UID:345149-1686268800-1686441599@wisconsinauctioneers.org
SUMMARY:Breakfast on the Farm & Live Auction
DESCRIPTION:Cheesy scrambled eggs\, pancakes\, sausage\, yogurt\, cheese\, ice cream\, milk & coffee. Additional samples of other Wisconsin dairy products will be offered in the Expo Area. \nEnjoy live music\, explore the Expo Area featuring dairy information & food samples\, move your milk muscles in our Dairy Fitness Zone\, meet Alice in Dairyland and local dairy ambassadors and royalty\, test your toss into one of our cheese hole bean bag games\, meet Bessy the Dane Dairy Cow…along with many other furry and feathery friends\, view our large machinery displays\, get your face painted…and much more! \nJune 9th:\nSpeaker @ 10:00AM: Rochelle Ripp Schnadt – Former Alice in Dairyland\nNew Glarus Tour\nPolka Fest\nBoard Meeting @ 4:00PM\nCampsite Available OR stay in New Glarus/Verona/Mt. Horeb \nJune 10th:\nBreakfast Served 7:00AM-11:30AM\nAuctions on Main Stage throughout breakfast benefiting the Community Action Coalition\nLIVE Consignment Auction starting at 11:30AM\nQuestions? Contact Riley @ 608-598-0777
URL:https://wisconsinauctioneers.org/event/breakfast-on-the-farm-auction/
LOCATION:Kahl Family Farm\, 8385 County Highway A\, Verona\, 53593\, United States
CATEGORIES:WAA Events
ATTACH;FMTTYPE=image/jpeg:https://wisconsinauctioneers.org/wp-content/uploads/2023/06/Kahl-Family.jpeg
ORGANIZER;CN="Wisconsin Auctioneers Association":MAILTO:info@wisconsinauctioneers.org
END:VEVENT
BEGIN:VEVENT
DTSTART;TZID=UTC:20230502T083000
DTEND;TZID=UTC:20230502T093000
DTSTAMP:20260423T204347
CREATED:20230307T004759Z
LAST-MODIFIED:20230307T004759Z
UID:344412-1683016200-1683019800@wisconsinauctioneers.org
SUMMARY:WAA Board Meeting
DESCRIPTION:The Wisconsin Auctioneers Association Board of Directors will be meeting via Zoom. If you have anything that you would like the Board to discuss\, please email it to info@wisconsinauctioneers.org so it can be added to the agenda.
URL:https://wisconsinauctioneers.org/event/waa-board-meeting-2/
LOCATION:Zoom
CATEGORIES:WAA Events,WAA Meetings
ORGANIZER;CN="Wisconsin Auctioneers Association":MAILTO:info@wisconsinauctioneers.org
END:VEVENT
END:VCALENDAR