BEGIN:VCALENDAR
VERSION:2.0
PRODID:-//Wisconsin Auctioneers - ECPv6.15.20//NONSGML v1.0//EN
CALSCALE:GREGORIAN
METHOD:PUBLISH
X-ORIGINAL-URL:https://wisconsinauctioneers.org
X-WR-CALDESC:Events for Wisconsin Auctioneers
REFRESH-INTERVAL;VALUE=DURATION:PT1H
X-Robots-Tag:noindex
X-PUBLISHED-TTL:PT1H
BEGIN:VTIMEZONE
TZID:UTC
BEGIN:STANDARD
TZOFFSETFROM:+0000
TZOFFSETTO:+0000
TZNAME:UTC
DTSTART:20240101T000000
END:STANDARD
END:VTIMEZONE
BEGIN:VEVENT
DTSTART;VALUE=DATE:20251126
DTEND;VALUE=DATE:20251211
DTSTAMP:20260424T120727
CREATED:20251109T203602Z
LAST-MODIFIED:20251109T203758Z
UID:364898-1764115200-1765411199@wisconsinauctioneers.org
SUMMARY:Auction Time: 2015 Patz 2400 Series II 950
DESCRIPTION:Lot # 3719 – PATZ 2400 SERIES II 950 Online Bidding: Auction Time Location: Malone\, WI 53049 Bidding Opens: Wed\, Nov. 26\, 2025 5:00 PM Bidding Closes: Wed\, Dec. 10\, 2025 TBA
URL:https://wisconsinauctioneers.org/event/auction-time-2015-patz-2400-series-ii-950/
CATEGORIES:Auctions,Heavy Equipment Auction
ATTACH;FMTTYPE=image/png:https://wisconsinauctioneers.org/wp-content/uploads/2025/11/logo-masthead-color__large.png
ORGANIZER;CN="Jones Auction & Realty Service":MAILTO:info@JonesAuctionService.com
END:VEVENT
BEGIN:VEVENT
DTSTART;VALUE=DATE:20251126
DTEND;VALUE=DATE:20251211
DTSTAMP:20260424T120727
CREATED:20251109T204006Z
LAST-MODIFIED:20251109T204006Z
UID:364900-1764115200-1765411199@wisconsinauctioneers.org
SUMMARY:Auction Time: 2019 Valmetal V-Mix 700
DESCRIPTION:Lot # 3723 – Valmetal V-Mix 700 Online Bidding: Auction Time Location: Malone\, WI 53049 Bidding Opens: Wed\, Nov. 26\, 2025 5:00 PM Bidding Closes: Wed\, Dec. 10\, 2025 TBA
URL:https://wisconsinauctioneers.org/event/auction-time-2019-valmetal-v-mix-700/
CATEGORIES:Auctions,Heavy Equipment Auction
ATTACH;FMTTYPE=image/png:https://wisconsinauctioneers.org/wp-content/uploads/2025/11/logo-masthead-color__large.png
ORGANIZER;CN="Jones Auction & Realty Service":MAILTO:info@JonesAuctionService.com
END:VEVENT
END:VCALENDAR