BEGIN:VCALENDAR
VERSION:2.0
PRODID:-//Wisconsin Auctioneers - ECPv6.15.20//NONSGML v1.0//EN
CALSCALE:GREGORIAN
METHOD:PUBLISH
X-WR-CALNAME:Wisconsin Auctioneers
X-ORIGINAL-URL:https://wisconsinauctioneers.org
X-WR-CALDESC:Events for Wisconsin Auctioneers
REFRESH-INTERVAL;VALUE=DURATION:PT1H
X-Robots-Tag:noindex
X-PUBLISHED-TTL:PT1H
BEGIN:VTIMEZONE
TZID:UTC
BEGIN:STANDARD
TZOFFSETFROM:+0000
TZOFFSETTO:+0000
TZNAME:UTC
DTSTART:20240101T000000
END:STANDARD
END:VTIMEZONE
BEGIN:VEVENT
DTSTART;VALUE=DATE:20251023
DTEND;VALUE=DATE:20251125
DTSTAMP:20260423T084426
CREATED:20251109T203224Z
LAST-MODIFIED:20251109T203224Z
UID:364895-1761177600-1764028799@wisconsinauctioneers.org
SUMMARY:205 Alvin Circle\, Beaver Dam – Online Bidding for Quiet Cul-de-Sac Home
DESCRIPTION:205 Alvin Circle\, Beaver Dam home in a Quiet Cul-de-Sac for sale by online bidding. Register today! Online bidding starts October 23rd\, 2025 and ends November 24th\, 2025 at 2:00 pm (cst). Join us for an open house Saturday\, November 15th from 10 – 11:30 am.  Located at the edge of town in a quiet cul-de-sac\, this 3-bedroom\, 1.5 bath ranch sits on a 0.23 acre lot with convenient access to Hwy 151. With approximately 1\,128 square feet\, this home offers a simple kitchen with stove\, refrigerator\, and dishwasher included\, and a cozy dining nook with built-in storage. The partially finished basement includes closet space\, an egress window and a utility room with washer and two dryers included. Ready for your updates and improvements. Outside is a 1-car attached garage with backyard access\, a paved driveway\, fenced yard\, deck\, playset and a storage shed. This property is a great renovation or investment opportunity in a peaceful residential area. Bidding requirements and Terms & Conditions apply. Sale subject to court approval. MLS #2011235
URL:https://wisconsinauctioneers.org/event/205-alvin-circle-beaver-dam-online-bidding-for-quiet-cul-de-sac-home/
CATEGORIES:Auctions,Real Estate Auction
ATTACH;FMTTYPE=image/png:https://wisconsinauctioneers.org/wp-content/uploads/2025/11/logo-masthead-color__large.png
ORGANIZER;CN="Jones Auction & Realty Service":MAILTO:info@JonesAuctionService.com
END:VEVENT
BEGIN:VEVENT
DTSTART;VALUE=DATE:20251025
DTEND;VALUE=DATE:20251125
DTSTAMP:20260423T084426
CREATED:20251109T211916Z
LAST-MODIFIED:20251109T211916Z
UID:364912-1761350400-1764028799@wisconsinauctioneers.org
SUMMARY:Merrill 3BR/1BA Real Estate Property Auction
DESCRIPTION:This 3 Bedroom 1 Bath Merrill home is being sold to the highest bidder. Conveniently located at 402 E. 3rd Street in Merrill it features a Living room\, Den\, and 3 Bedrooms and 1 Bath on the upper level\, a single car garage and a large exterior shed\, central air\, and oil forced air heat this is your opportunity to name your own price for your next home or investment property. There is a 10% Buyers Fee to be added to the highest bid that will become the purchase price for the home. Successful bidder will sign a Wisconsin offer to purchase real estate\, make a $5\,000.00 (Five Thousand) deposit\, and have up to 60 days to close on the property. Failure to close for any reason will result in the forfeiture of the deposit.
URL:https://wisconsinauctioneers.org/event/merrill-3br-1ba-real-estate-property-auction/
CATEGORIES:Auctions,Real Estate Auction
ATTACH;FMTTYPE=image/png:https://wisconsinauctioneers.org/wp-content/uploads/2025/11/logo-footer-v-alt__large.png
ORGANIZER;CN="Wisconsin Estate Solutions":MAILTO:Robert@wisconsinestatesolutions.com
END:VEVENT
BEGIN:VEVENT
DTSTART;VALUE=DATE:20251110
DTEND;VALUE=DATE:20251118
DTSTAMP:20260423T084426
CREATED:20251109T211543Z
LAST-MODIFIED:20251109T211543Z
UID:364910-1762732800-1763423999@wisconsinauctioneers.org
SUMMARY:Merrill Estate Online Auction
DESCRIPTION:Cub Cadet rider\, Simplicity snow blower\, Miller beer mirrors\, Jewelry\, and more
URL:https://wisconsinauctioneers.org/event/merrill-estate-online-auction/
CATEGORIES:Auctions,Personal Property Auction
ATTACH;FMTTYPE=image/png:https://wisconsinauctioneers.org/wp-content/uploads/2025/11/logo-footer-v-alt__large.png
ORGANIZER;CN="Wisconsin Estate Solutions":MAILTO:Robert@wisconsinestatesolutions.com
END:VEVENT
BEGIN:VEVENT
DTSTART;TZID=UTC:20251115T100000
DTEND;TZID=UTC:20251115T170000
DTSTAMP:20260423T084426
CREATED:20251109T181727Z
LAST-MODIFIED:20251109T183354Z
UID:364851-1763200800-1763226000@wisconsinauctioneers.org
SUMMARY:Sue Groschopf Auction
DESCRIPTION:DIRECTIONS: Kenosha County: Hwy 45 & Cty Hwy NN W on NN 9/10s mi to property 2nd House. Watch for signs. AUCTIONEER’S NOTE: List\, pictures\, & complete terms visit the WEBSITES: www.bobhagemannauctionreality.com or www.auctionzip.com  \nMotorcycles & More: 2017 Indian Chief Vintage 1800 w/ Leather Saddlebags\, 1981 Suzuki GS-1100\, Motorcycle Lift Table\, 3010 Kawasaki Mule 4WD\, Motorcycle Pipes\, Sportster HD Gas Tank. Tractor/Equipment: JD 850 3pt 2WD\, Set of Rear Turf Tires\, King Cutter 5’ 3pt Rotary Mower\, 3pt 2 Bottom Plow\, Fimco Trailer Sprayer\, Thatcher\, Tandem Axle Trailer\, Running Gear\, Ford Van Parts Unit\, Ford F350 Dually Crew Cab Flat Bed Parts Unit\, Side Tool Boxes Lawn & Garden: Ariens 1128 Snowblower\, BR400 Backpack Blower\, Stihl BR800X Magnum Backpack Blower\, Stihl Xtreme FS85 String Trimmer\, Earth Quake Rear Tine Rototiller\, Long Handle Garden Tools\, Lawn Cart\, Swisher 44” Tow Behind Mower. Exercise Equipment:  Pro-Form 900 Elliptical\, Weight Bench\, Inversion Table\, Massage Table\, Health Rider Fitness\, Nortic Track R400. Guns & Ammo: Comarksman Repeater .175 BB Pistol\, Crosman 38T.177 Pellet Pistol\,  Remington 12 g. 2 ¾ 8 Shot\, Winchester 12g. 2 ¾ 8 Shot\, 9 Shot\, Hunting Knife\, AR-15 50 round mag. .223 Remington\, Ammo Box\, Black Powder\, Soft & Hard Gun Cases\, Legacy Super Slam Compound Bow & Arrows\, Toy Double Barrel Crosman Pellet Gun .177cal\, Power Line .177cal\, Pump Air Pellet Gun\, Daisy Red Rider BB Gun\, Paint Ball-Tippmann Model 96\, Piranha R6\, Tmacer\, SL-68 II\, Tippmann Model X7Phenom\, Byrnasd\, Asst Paint Balls\, Vest\, Cases. Collectibles & Toys:  Vintage Red Baron Bi-Plane\, Vought F4U Corsair Navel Fighter Plane\, US Army Helicopter\, Zero Gravity Humvee Sharper Image\, Navy V-84 Plane\, Metal Antique Avro Tri-Plane\, Vintage Model Airplanes\, Snoopy Flying Ace Metal Sign\, Wilson A 200Floor J0 Leather Left Hand Glove\, JD MFD Toy Tractor\, 11-1:8th Scale Cycle World Motorcycles NIB\, Indian Chief Motorcycle Mounted\, 1948 Whizzer Motorbike\, Model 1:6th Scale Toy Truck\, Collectible Micky Mouse Items\, Mickey the Magician\, Coca-Cola Collectibles\, Toy Cars & Pickups\, Traditions Mini Yorktown Black Powder Cannon\, Vintage Conestoga Big Bang Military Cast Iron Cannon\, Vintage Boy Scout Troop Leader Hat\, Police Riot Helmet\,  Duck head Cane\, Celestron Microscope\, Sonic Air Blasters\, Hand Carved Wooden Figurines\, Battleship Btand Laundry Soap Metal Thermometer\, Remote Control Dinosaur\, Vintage Toy Box\, Wooden Crates\, Pepsi Wooden Crates\, Pr Machetes\, Metal Coaster Wagon\, Glass Gal Water Jug\, Horse Collar\, Old Wooden Hub & Metal Rim Wagon Wheel\, Metal &  Plastic Milk Crates\, Honeymoon Sewing Machine in Cabinet\, Dr. Pepper Tin Sign & Clock\, Wooden Sled\, Dairyland’s Best ½ gal Milk Bottle\, Save-T Cover II Automatic Pool Cover Thermometer\, Replica Tin Signs\, Kenosha County Road Sign\, Cubs Sign\, Packer Country Sign\, Wooden RR Road Sign\, License Plates\, VW Hub Caps\, Weather Vane\, Ringling Bros & Barnum & Bailey Circus Paper Posters. Tools & Shop: Rigid 14 gal Shop Vac\, Hand Dollies\, Elec Wire on Cart\, Bostitch Nailer\, Tool Tray Carts\, Machinist Tool Box\, Ryobi 10” Miter Saw\, DeWalt Planner\, Ryobi BT3000 10” Table Saw\, Woodcraft Roller Stand\, Drafting Table\, Step Ladders\, Ext. Cords\, Tire Thumper\, Trailer Jack\, Side Box\, 2 Post Car Hoist\, 20T Press\, Lift Cart\, 18V DeWalt Cordless Tools\, Slide Hammer\, Skill Chain Saw\, Schumacher 10/30/50 Battery Charger\, Floor Jack\, Generac PSI 3100 Power Washer\, 3 T Floor Jack\, Tranny Jack\, Schumacher 200/100/40 Battery Charger\, Century Battery Charger Model 87151\, Honda Inverter EU2200I\, Bostitch Pancake Air Compressor\, Jack Stands\, Pittsburgh Racing 2 ½ T Floor Jack\, Bauer Elec 35 Pound Pro Demolition Hammer Kit\, 10T Hyd Porta Power\, DeWalt Elec Circle Saw\, Transit Tripod\, Rigid Shop Vac\, Long Ram Jack Model 3JTLR 3T Tranny Jack\, Barn Fan\, Delta Bench Grinder on Pedestal\, Vice\, Ryobi Chop Saw\, Engine Stand\, Honda GX240 Trash Pump\, Shop Sweeper by Shop Vac\, MK Wet Tile Saw\, Cement Trowels\, Asst Electrical & Plumbing Supplies\, Asst Scrap Metal. Recreation: Camping Supplies\, Cots\, Fischer Skis\, Scuba Air Tanks\, Huffy Rocket Bike\, Fishing Rods\, 2 Wave Runners-may need work\, Asst. Helmets\, 2 Snowmobiles-details coming\, Whizzer Pace Maker 2 Bike\, Asst Pool Supplies. Household:  Lexage 33-100X100 Telescope & Tripod\, JVC Stereo System & Speakers\, PJ 2 Command Maxon Professional Radios/Walkie Talkies\, Sony Camera\, Assort. DVD’s\, Wooden Baby Crib\, Pet Carrier\, Costume Jewelry\, Chainsaw Carved Gnome\, Deer Hunting Bear Statue. & MUCH MORE. AUCTIONEER: Bob Hagemann CAI\, Wisconsin Registered Auctioneer No. 509. TERMS: No Buyers Fee on Cash or Good Check payments with proper I.D. 4% Convenience fee on credit card payments. All sales are final and to be sold “AS IS” with no guarantees expressed or implied. Not responsible in case of accident or for items after sold
URL:https://wisconsinauctioneers.org/event/sue-groschopf-auction/
CATEGORIES:Auctions,Personal Property Auction
ATTACH;FMTTYPE=image/png:https://wisconsinauctioneers.org/wp-content/uploads/2025/11/BobHagemann.png
ORGANIZER;CN="Bob Hagemann Auction & Realty Service":MAILTO:hagemannauctions@tds.net
END:VEVENT
BEGIN:VEVENT
DTSTART;TZID=UTC:20251115T110000
DTEND;TZID=UTC:20251115T170000
DTSTAMP:20260423T084426
CREATED:20251109T172637Z
LAST-MODIFIED:20251109T190944Z
UID:364837-1763204400-1763226000@wisconsinauctioneers.org
SUMMARY:Farmland Auction
DESCRIPTION:160 Acres \n\nSelling in FIVE surveyed parcels\n\n\n\nOwner\, Mary Elizabeth Love Stuff Revocable Trust # 1\n\n\n\nSale to be held at:   \n\nPine Creek Christian Church Fellowship Hall \n\n8111 W Penn Corner Rd  \n\nPolo\, IL  61064             
URL:https://wisconsinauctioneers.org/event/farmland-auction/
CATEGORIES:Auctions,Farm Auction
ATTACH;FMTTYPE=image/png:https://wisconsinauctioneers.org/wp-content/uploads/2025/11/lennybryson.png
ORGANIZER;CN="Lenny Bryson Auction Company":MAILTO:brysonauctions@hotmail.com
END:VEVENT
END:VCALENDAR